BEGIN:VCALENDAR
VERSION:2.0
PRODID:-//M.T.C. THORNSPIICK - ECPv6.15.20//NONSGML v1.0//EN
CALSCALE:GREGORIAN
METHOD:PUBLISH
X-WR-CALNAME:M.T.C. THORNSPIICK
X-ORIGINAL-URL:https://thornspiick.nl
X-WR-CALDESC:Evenementen voor M.T.C. THORNSPIICK
REFRESH-INTERVAL;VALUE=DURATION:PT1H
X-Robots-Tag:noindex
X-PUBLISHED-TTL:PT1H
BEGIN:VTIMEZONE
TZID:Europe/Amsterdam
BEGIN:DAYLIGHT
TZOFFSETFROM:+0100
TZOFFSETTO:+0200
TZNAME:CEST
DTSTART:20250330T010000
END:DAYLIGHT
BEGIN:STANDARD
TZOFFSETFROM:+0200
TZOFFSETTO:+0100
TZNAME:CET
DTSTART:20251026T010000
END:STANDARD
BEGIN:DAYLIGHT
TZOFFSETFROM:+0100
TZOFFSETTO:+0200
TZNAME:CEST
DTSTART:20260329T010000
END:DAYLIGHT
BEGIN:STANDARD
TZOFFSETFROM:+0200
TZOFFSETTO:+0100
TZNAME:CET
DTSTART:20261025T010000
END:STANDARD
BEGIN:DAYLIGHT
TZOFFSETFROM:+0100
TZOFFSETTO:+0200
TZNAME:CEST
DTSTART:20270328T010000
END:DAYLIGHT
BEGIN:STANDARD
TZOFFSETFROM:+0200
TZOFFSETTO:+0100
TZNAME:CET
DTSTART:20271031T010000
END:STANDARD
END:VTIMEZONE
BEGIN:VEVENT
DTSTART;TZID=Europe/Amsterdam:20260801T090000
DTEND;TZID=Europe/Amsterdam:20260801T170000
DTSTAMP:20260421T214401
CREATED:20251216T115201Z
LAST-MODIFIED:20251216T120201Z
UID:2564-1785574800-1785603600@thornspiick.nl
SUMMARY:Schnitzelrit
DESCRIPTION:
URL:https://thornspiick.nl/event/schnitzelrit-4/
LOCATION:Café Petit Restaurant Wolf\, zuiderzeestraatweg west 114\, Doornspijk\, 8085AJ\, Nederland
CATEGORIES:Dagrit
END:VEVENT
BEGIN:VEVENT
DTSTART;TZID=Europe/Amsterdam:20260822T093000
DTEND;TZID=Europe/Amsterdam:20260822T170000
DTSTAMP:20260421T214401
CREATED:20251216T115202Z
LAST-MODIFIED:20251216T115202Z
UID:2567-1787391000-1787418000@thornspiick.nl
SUMMARY:Rondje
DESCRIPTION:
URL:https://thornspiick.nl/event/rondje/
LOCATION:Café Petit Restaurant Wolf\, zuiderzeestraatweg west 114\, Doornspijk\, 8085AJ\, Nederland
CATEGORIES:Dagrit
END:VEVENT
BEGIN:VEVENT
DTSTART;TZID=Europe/Amsterdam:20260912T093000
DTEND;TZID=Europe/Amsterdam:20260912T170000
DTSTAMP:20260421T214401
CREATED:20251216T115216Z
LAST-MODIFIED:20251216T120028Z
UID:2570-1789205400-1789232400@thornspiick.nl
SUMMARY:Vossenrit
DESCRIPTION:
URL:https://thornspiick.nl/event/vossenrit/
LOCATION:Café Petit Restaurant Wolf\, zuiderzeestraatweg west 114\, Doornspijk\, 8085AJ\, Nederland
CATEGORIES:Dagrit
END:VEVENT
BEGIN:VEVENT
DTSTART;TZID=Europe/Amsterdam:20261003T093000
DTEND;TZID=Europe/Amsterdam:20261003T170000
DTSTAMP:20260421T214401
CREATED:20251216T115217Z
LAST-MODIFIED:20251216T115955Z
UID:2573-1791019800-1791046800@thornspiick.nl
SUMMARY:Couragerit
DESCRIPTION:
URL:https://thornspiick.nl/event/coeragerit/
LOCATION:Café Petit Restaurant Wolf\, zuiderzeestraatweg west 114\, Doornspijk\, 8085AJ\, Nederland
CATEGORIES:Dagrit
END:VEVENT
BEGIN:VEVENT
DTSTART;TZID=Europe/Amsterdam:20261024T093000
DTEND;TZID=Europe/Amsterdam:20261024T170000
DTSTAMP:20260421T214401
CREATED:20251216T115231Z
LAST-MODIFIED:20251216T115908Z
UID:2576-1792834200-1792861200@thornspiick.nl
SUMMARY:Kouwepotenrit
DESCRIPTION:
URL:https://thornspiick.nl/event/kouwepotenrit-2/
LOCATION:Café Petit Restaurant Wolf\, zuiderzeestraatweg west 114\, Doornspijk\, 8085AJ\, Nederland
CATEGORIES:Dagrit
END:VEVENT
END:VCALENDAR