BEGIN:VCALENDAR
VERSION:2.0
PRODID:-//M.T.C. THORNSPIICK - ECPv6.15.20//NONSGML v1.0//EN
CALSCALE:GREGORIAN
METHOD:PUBLISH
X-WR-CALNAME:M.T.C. THORNSPIICK
X-ORIGINAL-URL:https://thornspiick.nl
X-WR-CALDESC:Evenementen voor M.T.C. THORNSPIICK
REFRESH-INTERVAL;VALUE=DURATION:PT1H
X-Robots-Tag:noindex
X-PUBLISHED-TTL:PT1H
BEGIN:VTIMEZONE
TZID:Europe/Amsterdam
BEGIN:DAYLIGHT
TZOFFSETFROM:+0100
TZOFFSETTO:+0200
TZNAME:CEST
DTSTART:20240331T010000
END:DAYLIGHT
BEGIN:STANDARD
TZOFFSETFROM:+0200
TZOFFSETTO:+0100
TZNAME:CET
DTSTART:20241027T010000
END:STANDARD
BEGIN:DAYLIGHT
TZOFFSETFROM:+0100
TZOFFSETTO:+0200
TZNAME:CEST
DTSTART:20250330T010000
END:DAYLIGHT
BEGIN:STANDARD
TZOFFSETFROM:+0200
TZOFFSETTO:+0100
TZNAME:CET
DTSTART:20251026T010000
END:STANDARD
BEGIN:DAYLIGHT
TZOFFSETFROM:+0100
TZOFFSETTO:+0200
TZNAME:CEST
DTSTART:20260329T010000
END:DAYLIGHT
BEGIN:STANDARD
TZOFFSETFROM:+0200
TZOFFSETTO:+0100
TZNAME:CET
DTSTART:20261025T010000
END:STANDARD
END:VTIMEZONE
BEGIN:VEVENT
DTSTART;TZID=Europe/Amsterdam:20251011T093000
DTEND;TZID=Europe/Amsterdam:20251011T170000
DTSTAMP:20260421T225640
CREATED:20241211T150531Z
LAST-MODIFIED:20250423T111432Z
UID:2164-1760175000-1760202000@thornspiick.nl
SUMMARY:Het Rondje
DESCRIPTION:
URL:https://thornspiick.nl/event/het-rondje-3/
LOCATION:Café Petit Restaurant Wolf\, zuiderzeestraatweg west 114\, Doornspijk\, 8085AJ\, Nederland
CATEGORIES:Dagrit
END:VEVENT
END:VCALENDAR